BEGIN:VCALENDAR
VERSION:2.0
PRODID:-//Caritasverband für die Stadt und den Landkreis Würzburg e.V. - ECPv6.15.20//NONSGML v1.0//EN
CALSCALE:GREGORIAN
METHOD:PUBLISH
X-ORIGINAL-URL:https://caritas-wuerzburg.org
X-WR-CALDESC:Veranstaltungen für Caritasverband für die Stadt und den Landkreis Würzburg e.V.
REFRESH-INTERVAL;VALUE=DURATION:PT1H
X-Robots-Tag:noindex
X-PUBLISHED-TTL:PT1H
BEGIN:VTIMEZONE
TZID:Europe/Berlin
BEGIN:DAYLIGHT
TZOFFSETFROM:+0100
TZOFFSETTO:+0200
TZNAME:CEST
DTSTART:20240331T010000
END:DAYLIGHT
BEGIN:STANDARD
TZOFFSETFROM:+0200
TZOFFSETTO:+0100
TZNAME:CET
DTSTART:20241027T010000
END:STANDARD
BEGIN:DAYLIGHT
TZOFFSETFROM:+0100
TZOFFSETTO:+0200
TZNAME:CEST
DTSTART:20250330T010000
END:DAYLIGHT
BEGIN:STANDARD
TZOFFSETFROM:+0200
TZOFFSETTO:+0100
TZNAME:CET
DTSTART:20251026T010000
END:STANDARD
BEGIN:DAYLIGHT
TZOFFSETFROM:+0100
TZOFFSETTO:+0200
TZNAME:CEST
DTSTART:20260329T010000
END:DAYLIGHT
BEGIN:STANDARD
TZOFFSETFROM:+0200
TZOFFSETTO:+0100
TZNAME:CET
DTSTART:20261025T010000
END:STANDARD
END:VTIMEZONE
BEGIN:VEVENT
DTSTART;TZID=Europe/Berlin:20250915T100000
DTEND;TZID=Europe/Berlin:20250915T111500
DTSTAMP:20260421T145213
CREATED:20250819T133825Z
LAST-MODIFIED:20251121T093809Z
UID:10000674-1757930400-1757934900@caritas-wuerzburg.org
SUMMARY:Gesundheitswalk ... Lauf dem Schmerz davon
DESCRIPTION:
URL:https://caritas-wuerzburg.org/event/gesundheitswalk-lauf-dem-schmerz-davon-2/2025-09-15/
LOCATION:ABZ Heiligkreuz\, Sedanstr. 7a\, 97082 Würzburg\, Deutschland
CATEGORIES:ABZ Zellerau
END:VEVENT
BEGIN:VEVENT
DTSTART;TZID=Europe/Berlin:20250915T100000
DTEND;TZID=Europe/Berlin:20250915T120000
DTSTAMP:20260421T145213
CREATED:20250828T063459Z
LAST-MODIFIED:20250828T063502Z
UID:10003188-1757930400-1757937600@caritas-wuerzburg.org
SUMMARY:Wandern - G. Rützel
DESCRIPTION:Treffpunkt am HdB
URL:https://caritas-wuerzburg.org/event/wandern-g-ruetzel/2025-09-15/
LOCATION:Haus der Begegnung\, Estenfelder Str. 1\, 97228 Rottendorf\, Deutschland
CATEGORIES:Haus der Begegnung Rottendorf
END:VEVENT
BEGIN:VEVENT
DTSTART;TZID=Europe/Berlin:20250915T130000
DTEND;TZID=Europe/Berlin:20250915T140000
DTSTAMP:20260421T145214
CREATED:20250428T135342Z
LAST-MODIFIED:20251121T094005Z
UID:10001750-1757941200-1757944800@caritas-wuerzburg.org
SUMMARY:Gymnastik MS-Gruppe
DESCRIPTION:
URL:https://caritas-wuerzburg.org/event/gymnastik-ms-gruppe-2/2025-09-15/
LOCATION:ABZ Heiligkreuz\, Sedanstr. 7a\, 97082 Würzburg\, Deutschland
CATEGORIES:ABZ Zellerau
END:VEVENT
END:VCALENDAR